BEGIN:VCALENDAR
PRODID:-//AT Content Types//AT Event//EN
VERSION:2.0
METHOD:PUBLISH
BEGIN:VEVENT
DTSTAMP:20260419T235012Z
CREATED:20120529T135839Z
UID:ATEvent-2a57bc1696c14cc0af5aadab9b8c752b
LAST-MODIFIED:20120529T135849Z
SUMMARY:Think Tank Inception Meeting Formulation of African Fisheries Policy Framework
DTSTART:20120604T050000Z
DTEND:20120606T170000Z
DESCRIPTION:A consultative inception meeting on the developement of th
 e African Fisheries Policy Framework and its Comprehensive Reform Stra
 tegy. The meeting will be hosted by the African Union InterAfrican Bur
 eau for Animal Resources (AU-IBAR) and the NEPAD Planning and Coordina
 ting Agency (NPCA)
LOCATION:Abidjan - Côte d'Ivoire
URL:http://www.au-ibar.org
CLASS:PUBLIC
END:VEVENT
END:VCALENDAR
