BEGIN:VCALENDAR
PRODID:-//AT Content Types//AT Event//EN
VERSION:1.0
BEGIN:VEVENT
DTSTART:20120720T180000Z
DTEND:20120722T210000Z
DCREATED:20120713T120424Z
UID:ATEvent-f3ab2785987e496dbdf7426f7f1f442f
SEQUENCE:0
LAST-MODIFIED:20120717T122851Z
SUMMARY:Lake Tanganyika Day 2012 :"Lake Tanganyika\, a treasure to be protected"
LOCATION:Rumonge - Bujumbura - Burundi
PRIORITY:3
TRANSP:0
END:VEVENT
END:VCALENDAR
